BEGIN:VCALENDAR
VERSION:2.0
PRODID:-//wp-events-plugin.com//6.5.2//EN
BEGIN:VEVENT
UID:16@epos7.org
DTSTART:20260710T000000Z
DTEND:20260711T000000Z
DTSTAMP:20241004T135058Z
URL:https://epos7.org/etkinlikler/yerebatan-sarnici-gizem-ve-efsaneleri/
SUMMARY:Yerebatan Sarnıcı Gizem ve Efsaneleri
DESCRIPTION:Yerebatan Sarnıcı Gizem ve Efsaneleri ile 1.500 Yıllık Tari
 h\n\nİstanbul'un görkemli tarihsel yapılarından birisi de Ayasofya’n
 ın güneybatısında bulunan Bazilika Sarnıcı’dır. Bizans İmparator
 u I. Justinianus (527-565) tarafından yaptırılan bu büyük yeraltı sa
 rnıcı\, suyun içinden yükselen ve sayısız gibi görülen mermer süt
 unlar sebebiyle halk arasında “Yerebatan Sarayı” olarak isimlendiril
 miştir. Sarnıcın bulunduğu yerde daha önce bir Bazilika bulunduğunda
 n\, Bazilika Sarnıcı olarak da anılır.\n
ATTACH;FMTTYPE=image/jpeg:https://epos7.org/wp-content/uploads/2024/10/Yer
 ebatan-Sarnici-Gizem-ve-Efsaneleri.jpg
END:VEVENT
END:VCALENDAR